BEGIN:VCALENDAR
VERSION:2.0
PRODID:-//Schillo Verlag - ECPv6.15.18//NONSGML v1.0//EN
CALSCALE:GREGORIAN
METHOD:PUBLISH
X-WR-CALNAME:Schillo Verlag
X-ORIGINAL-URL:https://schillo-verlag.de
X-WR-CALDESC:Veranstaltungen für Schillo Verlag
REFRESH-INTERVAL;VALUE=DURATION:PT1H
X-Robots-Tag:noindex
X-PUBLISHED-TTL:PT1H
BEGIN:VTIMEZONE
TZID:Europe/Berlin
BEGIN:DAYLIGHT
TZOFFSETFROM:+0100
TZOFFSETTO:+0200
TZNAME:CEST
DTSTART:20240331T010000
END:DAYLIGHT
BEGIN:STANDARD
TZOFFSETFROM:+0200
TZOFFSETTO:+0100
TZNAME:CET
DTSTART:20241027T010000
END:STANDARD
BEGIN:DAYLIGHT
TZOFFSETFROM:+0100
TZOFFSETTO:+0200
TZNAME:CEST
DTSTART:20250330T010000
END:DAYLIGHT
BEGIN:STANDARD
TZOFFSETFROM:+0200
TZOFFSETTO:+0100
TZNAME:CET
DTSTART:20251026T010000
END:STANDARD
BEGIN:DAYLIGHT
TZOFFSETFROM:+0100
TZOFFSETTO:+0200
TZNAME:CEST
DTSTART:20260329T010000
END:DAYLIGHT
BEGIN:STANDARD
TZOFFSETFROM:+0200
TZOFFSETTO:+0100
TZNAME:CET
DTSTART:20261025T010000
END:STANDARD
END:VTIMEZONE
BEGIN:VEVENT
DTSTART;TZID=Europe/Berlin:20250615T193000
DTEND;TZID=Europe/Berlin:20250615T210000
DTSTAMP:20260421T054910
CREATED:20250325T052922Z
LAST-MODIFIED:20250325T055851Z
UID:9664-1750015800-1750021200@schillo-verlag.de
SUMMARY:Reinhard Ammer liest bei der Schwabinger Schaumschläger Show
DESCRIPTION:Unser Autor Reinhard Ammer ist am Sonntag\, 15. Juni 2025 um 19:30 Uhr auf der offenen Bühne der Schwabinger Schaumschläger Show im Vereinsheim dabei und liest aus seinem Buch Tanz der Vokale. \n  \n\n\n	        \n\n			            \n\n                \n                    Tanz der Vokale\n                \n\n				\n				                    \n						Experimentelle Literatur\, Kunstbuch                    \n				\n\n                \n\n					                        \n							\n	35\,00 €\n                        \n					\n					                        \n							In den Warenkorb
URL:https://schillo-verlag.de/event/reinhard-ammer-liest-bei-der-schwabinger-schaumschlaeger-show
LOCATION:Vereinsheim\, Occamstraße 8\, München\, 80802
CATEGORIES:Lesung
ATTACH;FMTTYPE=image/jpeg:https://schillo-verlag.de/wp-content/uploads/2025/03/Ammer-Oulipo.jpg
END:VEVENT
END:VCALENDAR