BEGIN:VCALENDAR
VERSION:2.0
PRODID:-//Schillo Verlag - ECPv6.15.18//NONSGML v1.0//EN
CALSCALE:GREGORIAN
METHOD:PUBLISH
X-WR-CALNAME:Schillo Verlag
X-ORIGINAL-URL:https://schillo-verlag.de
X-WR-CALDESC:Veranstaltungen für Schillo Verlag
REFRESH-INTERVAL;VALUE=DURATION:PT1H
X-Robots-Tag:noindex
X-PUBLISHED-TTL:PT1H
BEGIN:VTIMEZONE
TZID:Europe/Berlin
BEGIN:DAYLIGHT
TZOFFSETFROM:+0100
TZOFFSETTO:+0200
TZNAME:CEST
DTSTART:20240331T010000
END:DAYLIGHT
BEGIN:STANDARD
TZOFFSETFROM:+0200
TZOFFSETTO:+0100
TZNAME:CET
DTSTART:20241027T010000
END:STANDARD
BEGIN:DAYLIGHT
TZOFFSETFROM:+0100
TZOFFSETTO:+0200
TZNAME:CEST
DTSTART:20250330T010000
END:DAYLIGHT
BEGIN:STANDARD
TZOFFSETFROM:+0200
TZOFFSETTO:+0100
TZNAME:CET
DTSTART:20251026T010000
END:STANDARD
BEGIN:DAYLIGHT
TZOFFSETFROM:+0100
TZOFFSETTO:+0200
TZNAME:CEST
DTSTART:20260329T010000
END:DAYLIGHT
BEGIN:STANDARD
TZOFFSETFROM:+0200
TZOFFSETTO:+0100
TZNAME:CET
DTSTART:20261025T010000
END:STANDARD
END:VTIMEZONE
BEGIN:VEVENT
DTSTART;TZID=Europe/Berlin:20250117T200000
DTEND;TZID=Europe/Berlin:20250117T220000
DTSTAMP:20260423T110508
CREATED:20250109T125832Z
LAST-MODIFIED:20250109T125832Z
UID:9514-1737144000-1737151200@schillo-verlag.de
SUMMARY:Reinhard Ammer liest beim Open Stage Garching im VHS Bildungszentrum
DESCRIPTION:Reinhard Ammer tritt am 17. Januar 2025 mit Texten aus seinem Buch „Tanz der Vokale“ bei der Open Stage Garching im VHS Bildungszentrum auf. \nGebührenfrei. Eine Anmeldung ist erwünscht.
URL:https://schillo-verlag.de/event/reinhard-ammer-liest-beim-open-stage-garching-im-vhs-bildungszentrum
LOCATION:vhs Garching\, Telschowstraße 5-7\, Garching\, 85748
CATEGORIES:Lesung
END:VEVENT
BEGIN:VEVENT
DTSTART;TZID=Europe/Berlin:20250129T190000
DTEND;TZID=Europe/Berlin:20250129T203000
DTSTAMP:20260423T110508
CREATED:20250114T120417Z
LAST-MODIFIED:20250114T120417Z
UID:9519-1738177200-1738182600@schillo-verlag.de
SUMMARY:Lesung: Maximilian Lorenz »Frostbeben«
DESCRIPTION:Katrin Rüger von der Buchhandlung Buchpalast über »Frostbeben«: \nDas Leben ist ein Showroom. Das Leben ist Lifestyle\, Konsum und unendlicher Spaß. Das Leben ist unmittelbar und ungewiss. Das Leben ist voller Optionen. Pustekuchen\, das hippe Münchner Leben diktiert viele Erwartungen. Und in jeder Hinsicht überfordert es Tim. Maximilian Lorenz setzt dem äußeren Wirken des smarten\, gebildeten IT´lers um die dreißig seinen inneren Monolog entgegen\, in dem Tim bei jeder Kleinigkeit unsicher abwägt\, stolpert und strauchelt. \n\n\n\n\n\n\n\nBegegnungen und Trennungen laufen vor Tims Auge wie Kinofilme ab\, immer im Versuch darin den perfekten Schauspieler zu geben. Seine Aufmerksamkeit für Uhrzeiten\, an denen sich wichtige Dinge in seinem Leben ereignen\, ist fast manisch. 06:28 Uhr. Das Leben rast. Darin Tim\, auf der Suche nach Orientierung und Halt. Der einzige Ruhepol zwischen all den stark ichbezogenen Individualitäten\, Tim ist hier keine Ausnahme\, ist Medina\, eine alte Freundin\, bei deren Treffen er ganz unbewusst einfach er selbst ist. \nTim hat Beziehungsstress. Anna hat ihn verlassen. Die Datings mit hübschen Frauen von Dating Plattformen entpuppen sich als genau das\, was sie sind. Arrangierte Treffen mit Fremden\, die unter der Erwartungslast ersticken und zur Farce geraten. In aller Tragik des Seins kann Lorenz als bewährter Stand-up-Comedian diesen Szenen viel Witz abgewinnen. Und dann ist da noch Marie aus dem Kochkurs\, in die sich Tim dann Hals über Kopf neu verliebt. „In der Liebe rasen wir winkend an der eigenen Vernunft vorbei in Richtung Abgrund\, immer in der Hoffnung\, das es keinen Abgrund geben wird.“ \nDie Abgründe sind zahlreich und Tim nimmt sie alle. Wenn er nachts wie ein seelisch gerupftes Huhn durch die Straßen München stromert\, gelingt es ihm\, umhüllt von Dunkelheit\, in kostbaren Momenten den Lebens-Overload\, die Maskerade abzuwerfen. Sein Weg führt ihn im Morgengrauen vor die Haustür seines Arbeitskollegen und Freundes Vinzenco. Auch hier gibt es dringend zwischenmenschlichen Gesprächs- und Handlungsbedarf. Aber wer kreuzt schon in Zeiten von Whatsapp unangemeldet vor der Haustür eines Freundes auf. Du bist auf dem richtigen Weg\, möchte man Tim zurufen. \nAus einer anderen Generation kommend\, lese ich den Roman fast ein wenig erschüttert. Maximilian Lorenz liefert vor Münchenkulisse eine Studie der Generation Y (sprich Why) samt Lebensfeeling\, dem endlosen Gedankenkarussell zwischen Selbst- und Fremdwahrnehmung\, geprägt von digitaler Omnipräsenz. Viele Worte\, viel Witz\, viel Show\, viel Bewegung und immer auf der Suche. Vor allem auf der Suche nach sich selbst. \n\n\n\n\n\n\n\n\nQuelle: https://buchpalastmuenchen.de/lorenz-frostbeben/\n\n\n\n\n\n\n\n\n\n\n\n\n\n\nFoto © Buchpalast \n\n\n\n\n\n\n\n\n\n\n\nMaximilian Lorenz\n*1992 in München\, ist Autor\, Stand-up-Comedian und Content-Creator. Nach jahrelangen Aufenthalten in den USA\, Kanada und England findet man ihn heute vornehmlich in den Cafés in Berlin Neukölln\, um dort die letzten Jahre vor der endgültigen Gentrifizierung zu genießen. \nEintritt € 8\,- \nUm Anmeldung wird gebeten. \n\n  \nDie Veranstaltung wird vom Kulturreferat der Landeshauptstadt München gefördert.
URL:https://schillo-verlag.de/event/lesung-maximilian-lorenz-frostbeben
LOCATION:Buchpalast München\, Kirchenstraße 5\, München\, 81675
CATEGORIES:Lesung
ATTACH;FMTTYPE=image/jpeg:https://schillo-verlag.de/wp-content/uploads/2025/01/Maximilian-Lorenz-Lesung.jpg
END:VEVENT
BEGIN:VEVENT
DTSTART;TZID=Europe/Berlin:20250131T193000
DTEND;TZID=Europe/Berlin:20250131T213000
DTSTAMP:20260423T110508
CREATED:20250109T124717Z
LAST-MODIFIED:20250109T124717Z
UID:9511-1738351800-1738359000@schillo-verlag.de
SUMMARY:Reinhard Ammer liest auf der Lesebühne ABGEBRÜHT
DESCRIPTION:Am 31. Januar ist unser Autor Reinhard Ammer auf der Lesebühne ABGEBRÜHT im Café Beans and Books in Milbertshofen zu Gast. Er liest aus seinem Buch Tanz der Vokale. \nDer Eintritt ist frei und es ist keine Anmeldung notwendig.
URL:https://schillo-verlag.de/event/reinhard-ammer-liest-auf-der-lesebuehne-abgebrueht
LOCATION:Café Beans and Books\, Knorrstraße 8\, München\, 80807
CATEGORIES:Lesung
END:VEVENT
END:VCALENDAR