BEGIN:VCALENDAR
VERSION:2.0
PRODID:-//Schillo Verlag - ECPv6.15.18//NONSGML v1.0//EN
CALSCALE:GREGORIAN
METHOD:PUBLISH
X-WR-CALNAME:Schillo Verlag
X-ORIGINAL-URL:https://schillo-verlag.de
X-WR-CALDESC:Veranstaltungen für Schillo Verlag
REFRESH-INTERVAL;VALUE=DURATION:PT1H
X-Robots-Tag:noindex
X-PUBLISHED-TTL:PT1H
BEGIN:VTIMEZONE
TZID:Europe/Berlin
BEGIN:DAYLIGHT
TZOFFSETFROM:+0100
TZOFFSETTO:+0200
TZNAME:CEST
DTSTART:20240331T010000
END:DAYLIGHT
BEGIN:STANDARD
TZOFFSETFROM:+0200
TZOFFSETTO:+0100
TZNAME:CET
DTSTART:20241027T010000
END:STANDARD
BEGIN:DAYLIGHT
TZOFFSETFROM:+0100
TZOFFSETTO:+0200
TZNAME:CEST
DTSTART:20250330T010000
END:DAYLIGHT
BEGIN:STANDARD
TZOFFSETFROM:+0200
TZOFFSETTO:+0100
TZNAME:CET
DTSTART:20251026T010000
END:STANDARD
BEGIN:DAYLIGHT
TZOFFSETFROM:+0100
TZOFFSETTO:+0200
TZNAME:CEST
DTSTART:20260329T010000
END:DAYLIGHT
BEGIN:STANDARD
TZOFFSETFROM:+0200
TZOFFSETTO:+0100
TZNAME:CET
DTSTART:20261025T010000
END:STANDARD
END:VTIMEZONE
BEGIN:VEVENT
DTSTART;TZID=Europe/Berlin:20250527T190000
DTEND;TZID=Europe/Berlin:20250527T190000
DTSTAMP:20260421T053837
CREATED:20250519T140020Z
LAST-MODIFIED:20250519T160346Z
UID:9761-1748372400-1748372400@schillo-verlag.de
SUMMARY:Lesung | Delschad Numan Khorschid »Nirgendwo ist mein Zuhause«
DESCRIPTION:Dienstag\, 27. Mai 2025\, 19 Uhr \nBuchvorstellung und Lesung im Exilmuseum Berlin\n \nModeration: Sarah Blendin (Stiftung Exilmuseum Berlin)\nOrt: Werkstatt Exilmuseum\, Fasanenstr. 24\, 10719 Berlin\nEintritt frei \nZu Gast im Exilmuseum stellt Delschad Numan Khorschid sein Buch erstmals in Berlin vor. Er wird über seine Geschichte und sein Exil in Deutschland sprechen und darüber\, was ihm\, der als Kurde nicht zur Schule gehen durfte\, das Schreiben bedeutet. Er wird aus seinem Buch lesen und in seiner unvergleichlich offenen Art all Ihre Fragen beantworten. \n  \n\n\n	        \n\n			            \n\n                \n                    Nirgendwo ist mein Zuhause\n                \n\n				\n				                    \n						Erzählung\, Kunstbuch\, Lyrik                    \n				\n\n                \n\n					                        \n							\n	35\,00 €\n                        \n					\n					                        \n							In den Warenkorb
URL:https://schillo-verlag.de/event/lesung-delschad-numan-khorschid-nirgendwo-ist-mein-zuhause
LOCATION:Exilmuseum Berlin\, Fasanenstr. 24\, Berlin\, 10719
CATEGORIES:Lesung
END:VEVENT
END:VCALENDAR