BEGIN:VCALENDAR
VERSION:2.0
PRODID:-//Schillo Verlag - ECPv6.15.18//NONSGML v1.0//EN
CALSCALE:GREGORIAN
METHOD:PUBLISH
X-ORIGINAL-URL:https://schillo-verlag.de
X-WR-CALDESC:Veranstaltungen für Schillo Verlag
REFRESH-INTERVAL;VALUE=DURATION:PT1H
X-Robots-Tag:noindex
X-PUBLISHED-TTL:PT1H
BEGIN:VTIMEZONE
TZID:Europe/Berlin
BEGIN:DAYLIGHT
TZOFFSETFROM:+0100
TZOFFSETTO:+0200
TZNAME:CEST
DTSTART:20240331T010000
END:DAYLIGHT
BEGIN:STANDARD
TZOFFSETFROM:+0200
TZOFFSETTO:+0100
TZNAME:CET
DTSTART:20241027T010000
END:STANDARD
BEGIN:DAYLIGHT
TZOFFSETFROM:+0100
TZOFFSETTO:+0200
TZNAME:CEST
DTSTART:20250330T010000
END:DAYLIGHT
BEGIN:STANDARD
TZOFFSETFROM:+0200
TZOFFSETTO:+0100
TZNAME:CET
DTSTART:20251026T010000
END:STANDARD
BEGIN:DAYLIGHT
TZOFFSETFROM:+0100
TZOFFSETTO:+0200
TZNAME:CEST
DTSTART:20260329T010000
END:DAYLIGHT
BEGIN:STANDARD
TZOFFSETFROM:+0200
TZOFFSETTO:+0100
TZNAME:CET
DTSTART:20261025T010000
END:STANDARD
END:VTIMEZONE
BEGIN:VEVENT
DTSTART;TZID=Europe/Berlin:20250601T163000
DTEND;TZID=Europe/Berlin:20250601T180000
DTSTAMP:20260421T041018
CREATED:20250519T153259Z
LAST-MODIFIED:20250519T164458Z
UID:9768-1748795400-1748800800@schillo-verlag.de
SUMMARY:Lesung und Gespräch mit Delschad Numan Khorschid | WELT/BÜHNE Residenztheater
DESCRIPTION:IM GRENZLANDLesung und Gespräch mit Delschad Numan KhorschidEnglische Übersetzung: David Tushingham \nDelschad Numan Khorschid liest im Rahmen des Festivals Welt/Bühne im Residenztheater aus seinem Buch »Nirgendwo ist mein Zuhause« (Hrsg. Anke Bitter) – auf Deutsch und in englischer Übersetzung – und spricht über seinen Weg\, sein Schreiben und die Kraft der Kunst als Überlebensstrategie. \nTickets \n  \nEingebunden ins Festival ist auch Residenztheater-Schauspieler Delschad Numan Khorschid\, der nicht nur auf der Bühne agiert\, sondern auch fotografiert und schreibt. Zuletzt erschien „Nirgendwo ist mein Zuhause“ (Schillo Verlag). Khorschid blickt darin auf seine Herkunft als kurdischstämmiger Iraker zurück\, auf seine politische Verfolgung und Flucht. Wer jemals die Wärme\, das Lebensbejahende und Optimistische von Delschad Numan Khorschid erlebt hat\, wird sich seine Lesung und das Gespräch mit ihm unter dem Titel „Im Grenzland“ nicht entgehen lassen wollen (1. Juni) – und vermutlich nicht nur diese Produktion bei dem so perspektivreichen Programm des Welt/Bühne-Festivals 2025. (Süddeutsche Zeitung (8. Mai 2025))
URL:https://schillo-verlag.de/event/lesung-und-gespraech-mit-delschad-numan-khorschid-welt-buehne-residenztheater
LOCATION:Marstall Salon Residenztheater\, Marstallplatz 4\, München\, 80539
CATEGORIES:Lesung,Literaturfestival
END:VEVENT
BEGIN:VEVENT
DTSTART;TZID=Europe/Berlin:20250615T193000
DTEND;TZID=Europe/Berlin:20250615T210000
DTSTAMP:20260421T041018
CREATED:20250325T052922Z
LAST-MODIFIED:20250325T055851Z
UID:9664-1750015800-1750021200@schillo-verlag.de
SUMMARY:Reinhard Ammer liest bei der Schwabinger Schaumschläger Show
DESCRIPTION:Unser Autor Reinhard Ammer ist am Sonntag\, 15. Juni 2025 um 19:30 Uhr auf der offenen Bühne der Schwabinger Schaumschläger Show im Vereinsheim dabei und liest aus seinem Buch Tanz der Vokale. \n  \n\n\n	        \n\n			            \n\n                \n                    Tanz der Vokale\n                \n\n				\n				                    \n						Experimentelle Literatur\, Kunstbuch                    \n				\n\n                \n\n					                        \n							\n	35\,00 €\n                        \n					\n					                        \n							In den Warenkorb
URL:https://schillo-verlag.de/event/reinhard-ammer-liest-bei-der-schwabinger-schaumschlaeger-show
LOCATION:Vereinsheim\, Occamstraße 8\, München\, 80802
CATEGORIES:Lesung
ATTACH;FMTTYPE=image/jpeg:https://schillo-verlag.de/wp-content/uploads/2025/03/Ammer-Oulipo.jpg
END:VEVENT
BEGIN:VEVENT
DTSTART;TZID=Europe/Berlin:20250625T183000
DTEND;TZID=Europe/Berlin:20250625T183000
DTSTAMP:20260421T041018
CREATED:20250611T132715Z
LAST-MODIFIED:20250611T132806Z
UID:9860-1750876200-1750876200@schillo-verlag.de
SUMMARY:Buchvorstellung »Auf eine Reise nach Limerick«
DESCRIPTION:Wir laden herzlich zu einem kleinen Get-together in unserem Verlag ein\, um das Erscheinen des kleinen\, wunderbar witzigen Büchleins „Auf eine Reise nach Limerick“ von Joachim Heyder zu feiern – liebevoll\, humorvoll illustriert von Emma Bervard. \nAnmeldung unter kontakt[at]schillo-verlag.de \nDer Eintritt ist frei
URL:https://schillo-verlag.de/event/buchvorstellung-auf-eine-reise-nach-limerick
LOCATION:Schillo Verlag\, Orleansstraße 43\, München\, 81667
CATEGORIES:Buchvorstellung
END:VEVENT
END:VCALENDAR