BEGIN:VCALENDAR
VERSION:2.0
PRODID:-//Schillo Verlag - ECPv6.15.18//NONSGML v1.0//EN
CALSCALE:GREGORIAN
METHOD:PUBLISH
X-WR-CALNAME:Schillo Verlag
X-ORIGINAL-URL:https://schillo-verlag.de
X-WR-CALDESC:Veranstaltungen für Schillo Verlag
REFRESH-INTERVAL;VALUE=DURATION:PT1H
X-Robots-Tag:noindex
X-PUBLISHED-TTL:PT1H
BEGIN:VTIMEZONE
TZID:Europe/Berlin
BEGIN:DAYLIGHT
TZOFFSETFROM:+0100
TZOFFSETTO:+0200
TZNAME:CEST
DTSTART:20240331T010000
END:DAYLIGHT
BEGIN:STANDARD
TZOFFSETFROM:+0200
TZOFFSETTO:+0100
TZNAME:CET
DTSTART:20241027T010000
END:STANDARD
BEGIN:DAYLIGHT
TZOFFSETFROM:+0100
TZOFFSETTO:+0200
TZNAME:CEST
DTSTART:20250330T010000
END:DAYLIGHT
BEGIN:STANDARD
TZOFFSETFROM:+0200
TZOFFSETTO:+0100
TZNAME:CET
DTSTART:20251026T010000
END:STANDARD
BEGIN:DAYLIGHT
TZOFFSETFROM:+0100
TZOFFSETTO:+0200
TZNAME:CEST
DTSTART:20260329T010000
END:DAYLIGHT
BEGIN:STANDARD
TZOFFSETFROM:+0200
TZOFFSETTO:+0100
TZNAME:CET
DTSTART:20261025T010000
END:STANDARD
END:VTIMEZONE
BEGIN:VEVENT
DTSTART;TZID=Europe/Berlin:20250719T120000
DTEND;TZID=Europe/Berlin:20250719T180000
DTSTAMP:20260421T054955
CREATED:20250611T121806Z
LAST-MODIFIED:20250611T122745Z
UID:9849-1752926400-1752948000@schillo-verlag.de
SUMMARY:Münchner Buchfest 2025
DESCRIPTION:Idyllisch gelegen im Grünen zwischen Floßlände und Isar\, präsentieren unabhängige Verlage im Garten des Schleusenwärterhäuschens ihre Buchschätze. Eine wunderbare Gelegenheit\, die Vielfalt der Münchner Literaturszene zu entdecken: Von Kinderbüchern\, Romanen und Krimis über Sachbücher und Comics bis hin zur Münchner Stadtgeschichte\, Architektur und Literaturmagazinen ist für jeden Geschmack etwas dabei! Neben dem Bücherbummel erwartet die Gäste ein Rahmen-programm mit Lesungen von Münchner Autor·innen sowie Livemusik. Der Eintritt ist frei. \n  \nHier gibt’s mehr Infos … \n  \nSchirmherrschaft: Ulla Müller (Moderatorin von Bayern 1)\nAusweichtermin bei Regen: Samstag\, 26.7.2025
URL:https://schillo-verlag.de/event/muenchner-buchfest-am-schleusenwaerterhaeuschen-2025
LOCATION:Garten des Schleusenwärterhäuschens\, Zentralländstraße 35\, München\, 81379
CATEGORIES:Buchmesse
END:VEVENT
BEGIN:VEVENT
DTSTART;TZID=Europe/Berlin:20250724T190000
DTEND;TZID=Europe/Berlin:20250724T190000
DTSTAMP:20260421T054955
CREATED:20250702T120454Z
LAST-MODIFIED:20250702T121058Z
UID:9891-1753383600-1753383600@schillo-verlag.de
SUMMARY:Autorenlesung: Delschad Numan Khorschid »Nirgendwo ist mein Zuhause«
DESCRIPTION:2001 machte sich der 17-jährige mittellose irakische Kurde Delschad allein auf den Weg nach Europa. Zwei Jahre dauert seine Flucht über den Iran\, die Türkei bis nach München. Seine Kindheit war geprägt von der Verfolgung und Ermordung der kurdischen Minderheit im Norden Iraks.  Heute arbeitet Delschad erfolgreich als Schauspieler am Münchner Residenztheater. In deutscher Sprache schreibt Delschad Gedichte\, in denen er eindringlich seine Fluchterfahrungen zum Ausdruck bringt. Mit Fotografien dokumentiert er seinen Blick auf das Leben in Deutschland und auch seine Besuche in der alten Heimat. Die Gedichte\, die Fotografien\, aber auch die Beschreibungen seiner Flucht in Prosa ergeben ein dichtes Bild seiner Fluchterfahrungen. \nModeration: Clara Brill \nTickets sind über den Online-Shop erhältlich \n 
URL:https://schillo-verlag.de/event/autorenlesung-delschad-numan-khorschid-nirgendwo-ist-mein-zuhause
LOCATION:Prinz Eugen Buch\, Eugen-Jochum-Straße 3\, München\, 81927
CATEGORIES:Lesung
END:VEVENT
END:VCALENDAR