BEGIN:VCALENDAR
VERSION:2.0
PRODID:-//Schillo Verlag - ECPv6.15.18//NONSGML v1.0//EN
CALSCALE:GREGORIAN
METHOD:PUBLISH
X-ORIGINAL-URL:https://schillo-verlag.de
X-WR-CALDESC:Veranstaltungen für Schillo Verlag
REFRESH-INTERVAL;VALUE=DURATION:PT1H
X-Robots-Tag:noindex
X-PUBLISHED-TTL:PT1H
BEGIN:VTIMEZONE
TZID:Europe/Berlin
BEGIN:DAYLIGHT
TZOFFSETFROM:+0100
TZOFFSETTO:+0200
TZNAME:CEST
DTSTART:20240331T010000
END:DAYLIGHT
BEGIN:STANDARD
TZOFFSETFROM:+0200
TZOFFSETTO:+0100
TZNAME:CET
DTSTART:20241027T010000
END:STANDARD
BEGIN:DAYLIGHT
TZOFFSETFROM:+0100
TZOFFSETTO:+0200
TZNAME:CEST
DTSTART:20250330T010000
END:DAYLIGHT
BEGIN:STANDARD
TZOFFSETFROM:+0200
TZOFFSETTO:+0100
TZNAME:CET
DTSTART:20251026T010000
END:STANDARD
BEGIN:DAYLIGHT
TZOFFSETFROM:+0100
TZOFFSETTO:+0200
TZNAME:CEST
DTSTART:20260329T010000
END:DAYLIGHT
BEGIN:STANDARD
TZOFFSETFROM:+0200
TZOFFSETTO:+0100
TZNAME:CET
DTSTART:20261025T010000
END:STANDARD
END:VTIMEZONE
BEGIN:VEVENT
DTSTART;TZID=Europe/Berlin:20251025T193000
DTEND;TZID=Europe/Berlin:20251025T193000
DTSTAMP:20260421T083957
CREATED:20250611T124854Z
LAST-MODIFIED:20250702T111905Z
UID:9855-1761420600-1761420600@schillo-verlag.de
SUMMARY:Lesung: Robert Wolfgang Segel "Ein Schaben"
DESCRIPTION:Am 25.10.2025 findet ein Themenabend zum Thema Depression statt. Im Mittelpunkt steht eine Lesung aus Ein Schaben\, begleitet von Livemusik der Künstlerin Vronsy. Die Veranstaltung entsteht in Kooperation mit KISS e.V..
URL:https://schillo-verlag.de/event/lesung-robert-segel-ein-schaben
LOCATION:Martha Cafe Nürnberg\, Marthastraße 35\, Nürnberg\, 90482
CATEGORIES:Lesung
ATTACH;FMTTYPE=image/jpeg:https://schillo-verlag.de/wp-content/uploads/2025/06/segel-schaben.jpg
END:VEVENT
BEGIN:VEVENT
DTSTART;TZID=Europe/Berlin:20251031T190000
DTEND;TZID=Europe/Berlin:20251031T210000
DTSTAMP:20260421T083957
CREATED:20250924T105241Z
LAST-MODIFIED:20250929T122616Z
UID:9999-1761937200-1761944400@schillo-verlag.de
SUMMARY:Vorstellung der neuen Lyrikreihe »dicht an dicht«
DESCRIPTION:Lyrikabend mit Diana Jahr\, Katharina Wulkow und Emil Bach im Lyrik Kabinett\nWir stellen unsere neue Lyrikreihe »dicht an dicht« vor: eine Bühne für Gegenwartslyrik im handlichen Format. In kleinen Häppchen präsentiert diese Reihe die facettenreiche Vielfalt junger\, deutschsprachiger Poesie.  \nZum Auftakt lesen Diana Jahr\, Katharina Wulkow und Emil Bach aus den Bänden 1-3 : »in der stille | werden wir durstig sein«\, »bis es reißt« und »Die Fliege im Präteritum«.  \nStille Bilder\, laute Wut oder bissiger Sprachwitz – ein Abend\, der die Diversität der jungen Lyrik zeigt. Für musikalische Zwischentöne sorgt unter anderem Emil Bach. \n  \nEintritt €(D) 15\,– \nTickets gibt es im Vorverkauf (nur Paypal-Zahlung möglich) und an der Abendkasse.\nAnmeldungen im Voraus sind willkommen\, aber nicht verpflichtend: kontakt[at]schillo-verlag.de \n  \nFotos (von links nach rechts): © Heidi Bordach\, © Schillo Verlag\, © Johanna Wagner
URL:https://schillo-verlag.de/event/dichtandicht
LOCATION:Lyrik Kabinett\, Amalienstraße 83a\, München\, 80799
CATEGORIES:Buchvorstellung,Lesung
ATTACH;FMTTYPE=image/jpeg:https://schillo-verlag.de/wp-content/uploads/2025/09/Buchpremiere-dicht-an-dicht.jpg
ORGANIZER;CN="Schillo Verlag":MAILTO:kontakt@schillo-verlag.de
END:VEVENT
END:VCALENDAR